BEGIN:VCALENDAR
VERSION:2.0
PRODID:icalendar-ruby
CALSCALE:GREGORIAN
METHOD:PUBLISH
BEGIN:VEVENT
DTSTAMP:20260425T224717Z
UID:7-1111847@windsongchurch.org
DTSTART:20260913T223000Z
DTEND:20260913T233000Z
CLASS:PUBLIC
CREATED:20260425T173505
DESCRIPTION:
LAST-MODIFIED:20260425T173505
LOCATION:
SUMMARY:Sunday Evening Worship
URL;VALUE=URI:https://www.windsongchurch.org/events/sunday-evening-worship/
 2026-09-13
ATTACH;FILENAME=Sunday_img.jpg;FMTTYPE=image/jpeg:https://dq5pwpg1q8ru0.clo
 udfront.net/2023/11/05/13/11/24/0f95accf-8a4b-46b8-9e80-4b89b04c1571/Sunda
 y_img.jpg
END:VEVENT
END:VCALENDAR
